BEGIN:VCALENDAR
VERSION:2.0
PRODID:-//Squarespace Inc/Squarespace 6//v6//EN
BEGIN:VEVENT
UID:57acdff39f7456617f9ee35d@squarespace.com
DTSTAMP:20160811T203227Z
DTSTART:20161010T203000Z
DTEND:20161012T113000Z
SUMMARY:Spill facility management training. 
END:VEVENT
END:VCALENDAR
