BEGIN:VCALENDAR
VERSION:2.0
PRODID:-//Squarespace Inc/Squarespace 6//v6//EN
BEGIN:VEVENT
UID:57ace0f76b8f5b2251244b47@squarespace.com
DTSTAMP:20160811T203620Z
DTSTART:20161012T120000Z
DTEND:20161014T070000Z
SUMMARY:Veterinary training for  oiled wildlife
END:VEVENT
END:VCALENDAR
