BEGIN:VCALENDAR
VERSION:2.0
PRODID:-//Squarespace Inc/Squarespace 6//v6//EN
BEGIN:VEVENT
UID:57a9ab56c534a5b9ea039378@squarespace.com
DTSTAMP:20161031T092609Z
DTSTART:20161112T100000Z
DTEND:20161112T170000Z
SUMMARY:Training for first responders - Donegal
END:VEVENT
END:VCALENDAR
