BEGIN:VCALENDAR
VERSION:2.0
PRODID:-//Squarespace Inc/Squarespace 6//v6//EN
BEGIN:VEVENT
UID:585c0e0bb8a79b7350794a7a@squarespace.com
DTSTAMP:20171008T105014Z
DTSTART:20161212T080000Z
DTEND:20161216T210000Z
SUMMARY:EUROWA final meeting in Mallydam\, RSPCA hospital Hastings UK. 
END:VEVENT
END:VCALENDAR
