BEGIN:VCALENDAR
VERSION:2.0
PRODID:-//Squarespace Inc/Squarespace 6//v6//EN
BEGIN:VEVENT
UID:571ce33db6aa6012a7282d63@squarespace.com
DTSTAMP:20160811T200814Z
DTSTART:20160427T090000Z
DTEND:20160428T160000Z
SUMMARY:Castleconnell Exercise
GEO:52.66802;-8.630498
LOCATION:Ballyconnell\, Limerick\, Ireland
END:VEVENT
END:VCALENDAR
