BEGIN:VCALENDAR
VERSION:2.0
PRODID:-//Squarespace Inc/Squarespace 6//v6//EN
BEGIN:VEVENT
UID:57a9acb546c3c496d8287b4c@squarespace.com
DTSTAMP:20161031T092013Z
DTSTART:20161203T100000Z
DTEND:20161203T170000Z
SUMMARY:Training for first responders - Cork. 
END:VEVENT
END:VCALENDAR
