BEGIN:VCALENDAR
VERSION:2.0
PRODID:-//Squarespace Inc/Squarespace 6//v6//EN
BEGIN:VEVENT
UID:57a9a941f7e0abfd89d5ddc9@squarespace.com
DTSTAMP:20160811T200301Z
DTSTART:20160910T093000Z
DTEND:20160910T153000Z
SUMMARY:Build net bottom cages
END:VEVENT
END:VCALENDAR
