BEGIN:VCALENDAR
VERSION:2.0
PRODID:-//Squarespace Inc/Squarespace 6//v6//EN
BEGIN:VEVENT
UID:57a9adbfe4fcb51e7fd920c5@squarespace.com
DTSTAMP:20160811T200054Z
DTSTART:20160905T103000Z
DTEND:20160909T113000Z
SUMMARY:Intensive care for oiled wildlife. 
END:VEVENT
END:VCALENDAR
