BEGIN:VCALENDAR
VERSION:2.0
PRODID:-//Squarespace Inc/Squarespace 6//v6//EN
BEGIN:VEVENT
UID:59da04d549fc2bc1e549671e@squarespace.com
DTSTAMP:20171008T110215Z
DTSTART:20171007T110000Z
DTEND:20171007T120000Z
SUMMARY:Galway training 
END:VEVENT
END:VCALENDAR
