BEGIN:VCALENDAR
VERSION:2.0
PRODID:-//Squarespace Inc/Squarespace 6//v6//EN
BEGIN:VEVENT
UID:58ccfe738419c2ea931b2692@squarespace.com
DTSTAMP:20171008T105224Z
DTSTART:20170426T083000Z
DTEND:20170427T163000Z
SUMMARY:Exercise.
END:VEVENT
END:VCALENDAR
